BEGIN:VCALENDAR
VERSION:2.0
PRODID:-//wp-events-plugin.com//7.2.3.1//EN
TZID:Europe/Paris
X-WR-TIMEZONE:Europe/Paris
BEGIN:VEVENT
UID:581@caf-bagneres-bigorre.com
DTSTART;TZID=Europe/Paris;VALUE=DATE:20230624
DTEND;TZID=Europe/Paris;VALUE=DATE:20230625
DTSTAMP:20230619T165843Z
URL:https://www.caf-bagneres-bigorre.com/events/escalade-par-la/
SUMMARY:Escalade par-là ...
DESCRIPTION:CONTACT : SANDRA\n\nInscription/information :\n\nhttps://extran
 et-clubalpin.com/app/out/out.php?s=12&amp\;c=6520&amp\;h=b107e5c822
ATTACH;FMTTYPE=image/jpeg:https://i0.wp.com/www.caf-bagneres-bigorre.com/w
 p-content/uploads/2016/09/20160911_150238.jpg?fit=1365%2C768&ssl=1
CATEGORIES:Escalade
END:VEVENT
BEGIN:VTIMEZONE
TZID:Europe/Paris
X-LIC-LOCATION:Europe/Paris
BEGIN:DAYLIGHT
DTSTART:20230326T030000
TZOFFSETFROM:+0100
TZOFFSETTO:+0200
TZNAME:CEST
END:DAYLIGHT
END:VTIMEZONE
END:VCALENDAR