BEGIN:VCALENDAR
VERSION:2.0
PRODID:-//wp-events-plugin.com//7.2.3.1//EN
TZID:Europe/Paris
X-WR-TIMEZONE:Europe/Paris
BEGIN:VEVENT
UID:615@caf-bagneres-bigorre.com
DTSTART;TZID=Europe/Paris;VALUE=DATE:20240323
DTEND;TZID=Europe/Paris;VALUE=DATE:20240325
DTSTAMP:20240217T203326Z
URL:https://www.caf-bagneres-bigorre.com/events/formation-cartographie-car
 to1-ini-3-3-milieu-montagne/
SUMMARY:Formation cartographie CARTO1 - INI 3.3 Milieu montagne
DESCRIPTION:UF Niveau I Cartographie – Orientation - INI 3.3 Milieu Monta
 gne\n\nFormation à l’utilisation de la carte\, des instruments (boussol
 e\, altimètre\, GPS) et à l’appel des secours. Orientation avec visibi
 lité. N° d’agrément FFCAM : 2024FCCOPIN76702\n\nhttps://ffcam.fr/les-
 formations.html\n\nEn salle le samedi 23 mars et dimanche 24 mars\, partie
  pratique sur le terrain.\n\nContact Eric : valdazun@aol.com
ATTACH;FMTTYPE=image/jpeg:https://i0.wp.com/www.caf-bagneres-bigorre.com/w
 p-content/uploads/2023/02/DSCN1846-scaled.jpg?fit=1440%2C1080&ssl=1
CATEGORIES:Multi-activités
END:VEVENT
BEGIN:VTIMEZONE
TZID:Europe/Paris
X-LIC-LOCATION:Europe/Paris
BEGIN:STANDARD
DTSTART:20231029T020000
TZOFFSETFROM:+0200
TZOFFSETTO:+0100
TZNAME:CET
END:STANDARD
END:VTIMEZONE
END:VCALENDAR