BEGIN:VCALENDAR
VERSION:2.0
PRODID:-//wp-events-plugin.com//7.2.3.1//EN
TZID:Europe/Paris
X-WR-TIMEZONE:Europe/Paris
BEGIN:VEVENT
UID:606@caf-bagneres-bigorre.com
DTSTART;TZID=Europe/Paris;VALUE=DATE:20240126
DTEND;TZID=Europe/Paris;VALUE=DATE:20240129
DTSTAMP:20231109T130546Z
URL:https://www.caf-bagneres-bigorre.com/events/formation-perfectionne-raq
 uettes-a-neige/
SUMMARY:Formation Perfectionné - Raquettes à neige
DESCRIPTION:Stage agréé sous le N° 2024SNRQPPE76701 Comité Régional Oc
 citanie https://cr-occitanie.ffcam.fr/formations-region.html\n\nà Gavarn
 ie les 26\, 27 et 28 janvier 2024. Cette formation vous amènera au niveau
  "Perfectionné" en raquettes à neige. 12 places.\n\nContact : Thierry Ch
 anier   thierry@chanier.net
ATTACH;FMTTYPE=image/jpeg:https://i0.wp.com/www.caf-bagneres-bigorre.com/w
 p-content/uploads/2023/11/IMG_1907-scaled.jpg?fit=1440%2C1080&ssl=1
CATEGORIES:Raquettes
END:VEVENT
BEGIN:VTIMEZONE
TZID:Europe/Paris
X-LIC-LOCATION:Europe/Paris
BEGIN:STANDARD
DTSTART:20231029T020000
TZOFFSETFROM:+0200
TZOFFSETTO:+0100
TZNAME:CET
END:STANDARD
END:VTIMEZONE
END:VCALENDAR