BEGIN:VCALENDAR
VERSION:2.0
PRODID:-//wp-events-plugin.com//7.2.3.1//EN
TZID:Europe/Paris
X-WR-TIMEZONE:Europe/Paris
BEGIN:VEVENT
UID:637@caf-bagneres-bigorre.com
DTSTART;TZID=Europe/Paris;VALUE=DATE:20240921
DTEND;TZID=Europe/Paris;VALUE=DATE:20240923
DTSTAMP:20240605T065859Z
URL:https://www.caf-bagneres-bigorre.com/events/grand-parcours-canyon-21-2
 2-septembre-vallee-dossau/
SUMMARY:(64) Grand Parcours Canyon 21-22 Septembre - Vallée d'Ossau
DESCRIPTION:La première édition du Grand Parcours Canyon Vallée d'Ossau\
 , qui aura lieu les 21 et 22 septembre\, est l'occasion rêvée pour t'ini
 tier au canyonisme ou te perfectionner.\nLe principe est simple : que tu s
 ois débutant.e\, pratiquant.e occasionnel ou expert.e viens découvrir ou
  redécouvrir l'activité en vallée d'Ossau les 21 et 22 septembre 2024.\
 n\nPeu importe ton niveau\, ce qui compte c'est ta motivation et ta bonne 
 humeur !\n\nAu programme : du canyon\, des ateliers pour progresser et se
  perfectionner\, des animations\, des projections\, des conférences\, un 
 super repas aux saveurs locales et beaucoup de fun!\n\nPlus d'infos et in
 scriptions sur le site du comité régional FFCAM Nouvelle-Aquitaine en su
 ivant ce lien : https://cr-nouvelle-aquitaine.ffcam.fr/rassemblemnt-canyo
 n.html\n\nSi tu es déjà convaincu\, les inscriptions c'est par ici : 
 https://www.helloasso.com/associations/comite-regional-ffcam-nouvelle-aqui
 taine/evenements/grand-parcours-canyon-vallee-d-ossau-2024\n\nEt pour ne r
 ien louper sur l'évènement suis nous sur facebook et instagram !\n\n
 On t'attend à Béost les 21 et 22 septembre !\n\nA très vite !\n\nAyla\,
  Pilotage Grand Parcours Canyon Vallée d'Ossau 2024\nContact : grandparc
 ourscanyon@gmail.com | 06.02.32.03.69\n&nbsp\;
ATTACH;FMTTYPE=image/jpeg:https://i0.wp.com/www.caf-bagneres-bigorre.com/w
 p-content/uploads/2024/06/Affiche-GP_Page-1.png?fit=420%2C594&ssl=1
CATEGORIES:Canyon
END:VEVENT
BEGIN:VTIMEZONE
TZID:Europe/Paris
X-LIC-LOCATION:Europe/Paris
BEGIN:DAYLIGHT
DTSTART:20240331T030000
TZOFFSETFROM:+0100
TZOFFSETTO:+0200
TZNAME:CEST
END:DAYLIGHT
END:VTIMEZONE
END:VCALENDAR