BEGIN:VCALENDAR
VERSION:2.0
PRODID:-//wp-events-plugin.com//7.2.3.1//EN
TZID:Europe/Paris
X-WR-TIMEZONE:Europe/Paris
BEGIN:VEVENT
UID:620@caf-bagneres-bigorre.com
DTSTART;TZID=Europe/Paris:20240322T150000
DTEND;TZID=Europe/Paris:20240322T180000
DTSTAMP:20240313T174711Z
URL:https://www.caf-bagneres-bigorre.com/events/montavic-conference-et-pro
 jection-de-films/
SUMMARY:MONTA'VIC : Conférence et projection de films
DESCRIPTION:\n\n\nDans le cadre de notre BTS GPN à Vic-en-Bigorre\, nous o
 rganisons un projet autour des sports de montagne et des impacts qu’ils 
 ont sur la biodiversité.\nLe vendredi 22 mars de 15h à 18h\, se tiendra 
 une table ronde avec différents acteurs de la montagne :\n\n\n 	Emmanuel 
 MENONI : spécialiste Grand Tétras\n 	Maëlle BENUREAU : représentante d
 u Syndicat National des Accompagnateurs en Montagne et animatrice RNR Aulo
 n\n 	Philippe MAS : responsable du club Aquaneste et co-producteur du film
  « La Neste »\n 	Marie-Pierre MEILLAN : cheffe de projet Avenir Montagne
  vallée des Nestes\n 	Ludovic HENRY : directeur technique du SIVAL\n 	Pau
 l-Henri DELERUE : snowboardeur (à confirmer)\n\nPar la suite\, il y aura 
 un buffet pour remercier nos intervenants avant de finir par la projection
  de deux films :\n\n 	La Neste de Philippe Mas et Chris Castillon\n 	Meu P
 ireneus de Julien ColongeCordialement\,\nOcéane Huet\n\n\n\n
ATTACH;FMTTYPE=image/jpeg:https://i0.wp.com/www.caf-bagneres-bigorre.com/w
 p-content/uploads/2024/03/AFFICHE-PIC.jpg?fit=763%2C1080&ssl=1
CATEGORIES:Animation
END:VEVENT
BEGIN:VTIMEZONE
TZID:Europe/Paris
X-LIC-LOCATION:Europe/Paris
BEGIN:STANDARD
DTSTART:20231029T020000
TZOFFSETFROM:+0200
TZOFFSETTO:+0100
TZNAME:CET
END:STANDARD
END:VTIMEZONE
END:VCALENDAR