BEGIN:VCALENDAR
VERSION:2.0
PRODID:-//wp-events-plugin.com//7.2.3.1//EN
TZID:Europe/Paris
X-WR-TIMEZONE:Europe/Paris
BEGIN:VEVENT
UID:614@caf-bagneres-bigorre.com
DTSTART;TZID=Europe/Paris;VALUE=DATE:20240508
DTEND;TZID=Europe/Paris;VALUE=DATE:20240513
DTSTAMP:20240331T095137Z
URL:https://www.caf-bagneres-bigorre.com/events/rassemblement-multiactivit
 es-tautavel-du-8-au-12-mai-par-le-cd66/
SUMMARY:CD66 : Rassemblement multiactivités à Tautavel du 8 au 12 mai
DESCRIPTION:Bonjour à tous.toutes\,\n\nRendez-vous à Tautavel pour prat
 iquer escalade\, canyon\, randonnée et spéléologie ! Le Comité Dép
 artemental FFCAM des Pyrénées-Orientales organise un rassemblement mul
 ti-activités : T-RECS du 8 au 12 mai 2024.\n\nCe rassemblement est o
 uvert en priorité aux pratiquants de tout horizon (FFCAM\, FFS\, FFME\, .
 ..) au niveau initié et autonome en encadrement et en matériel.\n\nPour
  la pratique de la spéléo\, il est prévu d'équiper les cavités. Quel
 ques sorties encadrées\, découvertes et initiation\, seront proposées 
 par les sponsors sur inscriptions dans la limite des places disponibles. S
 ous réserve de confirmation.\n\nLe gymnase de Tautavel devient pendant qu
 elques jours le camp de base : le point accueil et inscriptions aux sites 
 de pratique des activités (pour la sécurité et la fréquentation)\, des
  stands d'exposants et le bar\, les animations.\n\nLa billetterie est ouve
 rte en ligne jusqu'au dimanche 5 mai.\n\n⇒ Inscriptions et informations 
 sur les sites d'activités\, les animations\, sur le site : https://www.t
 -recs-camp.org/\n⇒ Le site est mis à jour au fur et à mesure de l'orga
 nisation de l'événement.\n⇒ Vous pouvez également suivre les prépara
 tions sur la page événement Facebook : https://www.facebook.com/events/
 917442199627295\n⇒ Contact : rscaf2024@gmail.com\n\nSportivement\,\nAna
 ïs Del Pino\nCommunication et évenements\nComité Régional Occitanie de
 s Clubs Alpins et de Montagne\nsite - Facebook - Instagram
ATTACH;FMTTYPE=image/jpeg:https://i0.wp.com/www.caf-bagneres-bigorre.com/w
 p-content/uploads/2024/02/Affiche_5L_T-RECS-logo-800.jpg?fit=763%2C1080&ss
 l=1
CATEGORIES:Multi-activités
END:VEVENT
BEGIN:VTIMEZONE
TZID:Europe/Paris
X-LIC-LOCATION:Europe/Paris
BEGIN:DAYLIGHT
DTSTART:20240331T030000
TZOFFSETFROM:+0100
TZOFFSETTO:+0200
TZNAME:CEST
END:DAYLIGHT
END:VTIMEZONE
END:VCALENDAR