BEGIN:VCALENDAR
VERSION:2.0
PRODID:-//wp-events-plugin.com//7.2.3.1//EN
TZID:Europe/Paris
X-WR-TIMEZONE:Europe/Paris
BEGIN:VEVENT
UID:739@caf-bagneres-bigorre.com
DTSTART;TZID=Europe/Paris:20260425T100000
DTEND;TZID=Europe/Paris:20260425T123000
DTSTAMP:20260421T184642Z
URL:https://www.caf-bagneres-bigorre.com/events/rencontre-et-dedicace-toni
 o-tamarel/
SUMMARY:Rencontre et dédicace Tonio Tamarel
DESCRIPTION:Bonjour nous recevons Tonio Tamarel et Olivier Lambert qui nous
  présenterons "Tonio un p'tit vélo dans la tête".\n"Avec son corps dég
 lingué\,  l ancien gardien de refuge\,  montagnard obstiné\, ce donne 
 cinq ans pour hisser sa grande carcasse en haut de toutes les côtes des B
 aronnies et des grands cols Pyrénéens"\nUn parcours de vie \, une passio
 n qui sauve.\nSamedi 25 Avril 10h-12h30 Librairie Auprès de Pyrene à Bag
 neres-de-Bigorre\n\n\n\n&nbsp\;
ATTACH;FMTTYPE=image/jpeg:https://i0.wp.com/www.caf-bagneres-bigorre.com/w
 p-content/uploads/2026/04/20260421_101811.jpg?fit=547%2C874&ssl=1
CATEGORIES:Animation
END:VEVENT
BEGIN:VTIMEZONE
TZID:Europe/Paris
X-LIC-LOCATION:Europe/Paris
BEGIN:DAYLIGHT
DTSTART:20260329T030000
TZOFFSETFROM:+0100
TZOFFSETTO:+0200
TZNAME:CEST
END:DAYLIGHT
END:VTIMEZONE
END:VCALENDAR